BEGIN:VCALENDAR
VERSION:2.0
PRODID:-//ChamberMaster//Event Calendar 2.0//EN
METHOD:PUBLISH
X-PUBLISHED-TTL:P3D
REFRESH-INTERVAL:P3D
CALSCALE:GREGORIAN
BEGIN:VEVENT
DTSTART:20241115T150000Z
DTEND:20241117T230000Z
X-MICROSOFT-CDO-ALLDAYEVENT:FALSE
SUMMARY:Christmas Jubilee
DESCRIPTION:The Junior League of Mobile's annual Christmas Jubilee Fundraiser is coming up! This year we are celebrating 40 years of Christmas Jubilee! November 15\, 16\, 17 Mobile Convention Center VIP shopping: Friday & Saturday 9-11 a.m. Ages 21+ only General Admission: Friday 11 a.m. - 7 p.m. Sunday 10 a.m. - 5 p.m. Saturday 11 a.m. - 6 p.m.
X-ALT-DESC;FMTTYPE=text/html:The Junior League of Mobile&#39\;s annual Christmas Jubilee Fundraiser is coming up! This year we are celebrating 40 years of Christmas Jubilee! November 15\, 16\, 17 Mobile Convention Center VIP shopping: Friday &amp\; Saturday 9-11 a.m. Ages 21+ only General Admission: Friday 11 a.m. - 7 p.m. Sunday 10 a.m. - 5 p.m. Saturday 11 a.m. - 6 p.m.
LOCATION:Mobile Convention Center
UID:e.1304.35647
SEQUENCE:3
DTSTAMP:20260425T152812Z
URL:http://business.eschamber.org/events/details/christmas-jubilee-11-15-2024-35647
END:VEVENT

END:VCALENDAR
