BEGIN:VCALENDAR
VERSION:2.0
PRODID:-//ChamberMaster//Event Calendar 2.0//EN
METHOD:PUBLISH
X-PUBLISHED-TTL:P3D
REFRESH-INTERVAL:P3D
CALSCALE:GREGORIAN
BEGIN:VEVENT
DTSTART:20240519T230000Z
DTEND:20240520T003000Z
X-MICROSOFT-CDO-ALLDAYEVENT:FALSE
SUMMARY:City of Daphne Sunday Sunset Concert Series
DESCRIPTION:Come enjoy the Sunday Sunset Concert Series at Bayfront Park!
X-ALT-DESC;FMTTYPE=text/html:Come enjoy the Sunday Sunset Concert Series at Bayfront Park!&nbsp\;
LOCATION:Bayfront Park\, 6200 Bayfront Park Dr.\, Daphne\, AL
UID:e.1304.30070
SEQUENCE:3
DTSTAMP:20260425T233935Z
URL:http://business.eschamber.org/events/details/city-of-daphne-sunday-sunset-concert-series-30070
END:VEVENT

END:VCALENDAR
