BEGIN:VCALENDAR
VERSION:2.0
PRODID:-//ChamberMaster//Event Calendar 2.0//EN
METHOD:PUBLISH
X-PUBLISHED-TTL:P3D
REFRESH-INTERVAL:P3D
CALSCALE:GREGORIAN
BEGIN:VEVENT
DTSTART:20240303T160000Z
DTEND:20240303T173000Z
X-MICROSOFT-CDO-ALLDAYEVENT:FALSE
SUMMARY:Civil War on the Eastern Shore Cruise
DESCRIPTION:Join us during Alabama Authors Day at Five Rivers as we take a journey along the waterways of the lower Delta to discover the sites on land and water where the Civil War Campaign for Mobile took place.
X-ALT-DESC;FMTTYPE=text/html:Join us during Alabama Authors Day at Five Rivers as we take a journey along the waterways of the lower Delta to discover the sites on land and water where the Civil War Campaign for Mobile took place.
LOCATION:Bartram Landing at Five Rivers Delta Resource Center
UID:e.1304.29898
SEQUENCE:3
DTSTAMP:20260426T022021Z
URL:http://business.eschamber.org/events/details/civil-war-on-the-eastern-shore-cruise-03-03-2024-29898
END:VEVENT

END:VCALENDAR
