BEGIN:VCALENDAR
VERSION:2.0
PRODID:-//ChamberMaster//Event Calendar 2.0//EN
METHOD:PUBLISH
X-PUBLISHED-TTL:P3D
REFRESH-INTERVAL:P3D
CALSCALE:GREGORIAN
BEGIN:VEVENT
DTSTART:20240503T220000Z
DTEND:20240504T010000Z
X-MICROSOFT-CDO-ALLDAYEVENT:FALSE
SUMMARY:Coastal Alabama Community College Annual Student Art and Portfolio Show
DESCRIPTION:Students in Coastal Alabama's Fine Arts\, Graphic Design\, and Visual Production programs will display their work for family\, friends\, and the community. Free refreshments provided.
X-ALT-DESC;FMTTYPE=text/html:Students in Coastal Alabama&#39\;s Fine Arts\, Graphic Design\, and Visual Production programs will display their work for family\, friends\, and the community. Free refreshments provided.
LOCATION:Coastal Alabama Community College\, 440 Fairhope Avenue\, Fairhope\, AL 36532 Borom Building 3rd floor
UID:e.1304.31296
SEQUENCE:3
DTSTAMP:20260425T233741Z
URL:http://business.eschamber.org/events/details/coastal-alabama-community-college-annual-student-art-and-portfolio-show-31296
END:VEVENT

END:VCALENDAR
