BEGIN:VCALENDAR
VERSION:2.0
PRODID:-//ChamberMaster//Event Calendar 2.0//EN
METHOD:PUBLISH
X-PUBLISHED-TTL:P3D
REFRESH-INTERVAL:P3D
CALSCALE:GREGORIAN
BEGIN:VEVENT
DTSTART:20260115T180000Z
DTEND:20260115T200000Z
X-MICROSOFT-CDO-ALLDAYEVENT:FALSE
SUMMARY:Coffee & Chat with Kate and Matt
DESCRIPTION:Join us for a Coffee & Chat!\n\n\n\nWe're excited to invite you to Kind Cafe in Fairhope on Thursday\, January 15th from 12 Pm to 2 PM for a cozy community meet up with two of Fairhope's local real estate and lending experts-- Kate Fletcher\, Broker at Carrie Fitts Real Estate\, and Matt Sines\, Senior Loan Officer with Guild Mortgage.\n\n\n\nThis is the perfect opportunity to grab the best coffee in town\, enjoy great conversation\, and chat with the experts about today's market trend\, buying or selling questions\, and what's happening in our local real estate community. Whether you're planning a move or just curious about the market\, we'd love to see you there!\n\n\n\nPlus-- attendees will have the chance to win a gift card!
X-ALT-DESC;FMTTYPE=text/html:Join us for a Coffee &amp\; Chat!<br />\n<br />\nWe&#39\;re excited to invite you to Kind Cafe in Fairhope on Thursday\, January 15th from 12 Pm to 2 PM for a cozy community meet up with two of Fairhope&#39\;s local real estate and lending experts-- Kate Fletcher\, Broker at Carrie Fitts Real Estate\, and Matt Sines\, Senior Loan Officer with Guild Mortgage.<br />\n<br />\nThis is the perfect opportunity to grab the best coffee in town\, enjoy great conversation\, and chat with the experts about today&#39\;s market trend\, buying or selling questions\, and what&#39\;s happening in our local real estate community. Whether you&#39\;re planning a move or just curious about the market\, we&#39\;d love to see you there!<br />\n<br />\nPlus-- attendees will have the chance to win a gift card!
LOCATION:Kind Cafe-- Fairhope 108 N Section Street\, Fairhope\, AL\, 36532
UID:e.1304.39819
SEQUENCE:3
DTSTAMP:20260422T155124Z
URL:http://business.eschamber.org/events/details/coffee-chat-with-kate-and-matt-39819
END:VEVENT

END:VCALENDAR
