BEGIN:VCALENDAR
VERSION:2.0
PRODID:-//ChamberMaster//Event Calendar 2.0//EN
METHOD:PUBLISH
X-PUBLISHED-TTL:P3D
REFRESH-INTERVAL:P3D
CALSCALE:GREGORIAN
BEGIN:VEVENT
DTSTART:20241011T140000Z
DTEND:20241011T170000Z
X-MICROSOFT-CDO-ALLDAYEVENT:FALSE
SUMMARY:Community Shred Day
DESCRIPTION:Join us for the annual Community Shred Day with the Better Business Bureau and Eastern Shore Chamber of Commerce.
X-ALT-DESC;FMTTYPE=text/html:Join us for the annual Community Shred Day with the Better Business Bureau and Eastern Shore Chamber of Commerce.&nbsp\;
LOCATION:Tractor Supply Company 851 US-98 Daphne\, AL 36526
UID:e.1304.34125
SEQUENCE:3
DTSTAMP:20260425T164713Z
URL:http://business.eschamber.org/events/details/community-shred-day-34125
END:VEVENT

END:VCALENDAR
