BEGIN:VCALENDAR
VERSION:2.0
PRODID:-//ChamberMaster//Event Calendar 2.0//EN
METHOD:PUBLISH
X-PUBLISHED-TTL:P3D
REFRESH-INTERVAL:P3D
CALSCALE:GREGORIAN
BEGIN:VEVENT
DTSTART:20240919T230000Z
DTEND:20240920T010000Z
X-MICROSOFT-CDO-ALLDAYEVENT:FALSE
SUMMARY:Crazy Cat Lady Bar Crawl - 2024
DESCRIPTION:Join us for the FIRST EVER Crazy Cat Lady Bar Crawl benefiting animal rescue! Crazy Cat Lady Costumes Encouraged! \n\n\n\nBar crawl starts at 6:00 PM in Olde Town Daphne!\n\nFULL BAR CRAWL MAP COMING SOON! \n\n\n\nEnjoy PURRRRRfect drink specials\, shopping\, fun and MORE!
X-ALT-DESC;FMTTYPE=text/html:Join us for the FIRST EVER Crazy Cat Lady Bar Crawl benefiting animal rescue! <em><strong>Crazy Cat Lady Costumes Encouraged!&nbsp\;</strong></em><br />\n<br />\nBar crawl starts at 6:00 PM in Olde Town Daphne!<br />\n<em><strong>FULL BAR CRAWL MAP COMING SOON!&nbsp\;</strong></em><br />\n<br />\n<strong>Enjoy PURRRRRfect drink specials\, shopping\, fun and MORE!&nbsp\;</strong>
LOCATION:Olde Towne Daphne\, Daphne AL Full Map Coming Soon
UID:e.1304.34177
SEQUENCE:3
DTSTAMP:20260423T170417Z
URL:http://business.eschamber.org/events/details/crazy-cat-lady-bar-crawl-2024-34177
END:VEVENT

END:VCALENDAR
