BEGIN:VCALENDAR
VERSION:2.0
PRODID:-//ChamberMaster//Event Calendar 2.0//EN
METHOD:PUBLISH
X-PUBLISHED-TTL:P3D
REFRESH-INTERVAL:P3D
CALSCALE:GREGORIAN
BEGIN:VEVENT
DTSTART:20240525T140000Z
DTEND:20240525T170000Z
X-MICROSOFT-CDO-ALLDAYEVENT:FALSE
SUMMARY:Cruise to Gaillard Island
DESCRIPTION:Gaillard Island\, which is man-made from dredge material from the Theodore Industrial Canal\, is one of the largest pelican rookeries on the northern Gulf Coast. Named for Mobile dentist Dr. Wilson Gaillard who had the idea\, it was created specifically for shorebirds to use for nesting. More than 20\,000 pelicans use the island along with other shorebirds such as several species of terns\, gulls\, herons\, egrets\, and white Ibises\, among others. Although the island is protected and not accessible by the public\, birding is usually good around the perimeter where the adult birds are flying back and forth from the mainland.
X-ALT-DESC;FMTTYPE=text/html:Gaillard Island\, which is man-made from dredge material from the Theodore Industrial Canal\, is one of the largest pelican rookeries on the northern Gulf Coast. Named for Mobile dentist Dr. Wilson Gaillard who had the idea\, it was created specifically for shorebirds to use for nesting. More than 20\,000 pelicans use the island along with other shorebirds such as several species of terns\, gulls\, herons\, egrets\, and white Ibises\, among others. Although the island is protected and not accessible by the public\, birding is usually good around the perimeter where the adult birds are flying back and forth from the mainland.
LOCATION:Bartram Landing at Five Rivers Delta Resource Center
UID:e.1304.31316
SEQUENCE:3
DTSTAMP:20260425T233455Z
URL:http://business.eschamber.org/events/details/cruise-to-gaillard-island-31316
END:VEVENT

END:VCALENDAR
