BEGIN:VCALENDAR
VERSION:2.0
PRODID:-//ChamberMaster//Event Calendar 2.0//EN
METHOD:PUBLISH
X-PUBLISHED-TTL:P3D
REFRESH-INTERVAL:P3D
CALSCALE:GREGORIAN
BEGIN:VEVENT
DTSTART:20241024T163000Z
DTEND:20241024T183000Z
X-MICROSOFT-CDO-ALLDAYEVENT:FALSE
SUMMARY:Daphne's Brown Bag By the Bay lunchtime concert series
DESCRIPTION:Join us for Brown Bag By the Bay lunchtime concert series - Emily Stuckey.
X-ALT-DESC;FMTTYPE=text/html:Join us for Brown Bag By the Bay lunchtime concert series - Emily Stuckey.
LOCATION:Daphne's May Day Park (at the end of College Avenue)\, Daphne\, AL 36526
UID:e.1304.35763
SEQUENCE:3
DTSTAMP:20260425T170116Z
URL:http://business.eschamber.org/events/details/daphne-s-brown-bag-by-the-bay-lunchtime-concert-series-10-24-2024-35763
END:VEVENT

END:VCALENDAR
