BEGIN:VCALENDAR
VERSION:2.0
PRODID:-//ChamberMaster//Event Calendar 2.0//EN
METHOD:PUBLISH
X-PUBLISHED-TTL:P3D
REFRESH-INTERVAL:P3D
CALSCALE:GREGORIAN
BEGIN:VEVENT
DTSTART:20241031T163000Z
DTEND:20241031T183000Z
X-MICROSOFT-CDO-ALLDAYEVENT:FALSE
SUMMARY:Daphne's Brown Bag By the Bay lunchtime concert series
DESCRIPTION:Join us for Brown Bag By the Bay lunchtime concert series - Red Gate Road.
X-ALT-DESC;FMTTYPE=text/html:Join us for Brown Bag By the Bay lunchtime concert series - Red Gate Road.
LOCATION:Daphne's May Day Park (at the end of College Avenue)\, Daphne\, AL 36526
UID:e.1304.35764
SEQUENCE:3
DTSTAMP:20260425T165520Z
URL:http://business.eschamber.org/events/details/daphne-s-brown-bag-by-the-bay-lunchtime-concert-series-10-31-2024-35764
END:VEVENT

END:VCALENDAR
