BEGIN:VCALENDAR
VERSION:2.0
PRODID:-//ChamberMaster//Event Calendar 2.0//EN
METHOD:PUBLISH
X-PUBLISHED-TTL:P3D
REFRESH-INTERVAL:P3D
CALSCALE:GREGORIAN
BEGIN:VEVENT
DTSTART:20260613T180000Z
DTEND:20260613T193000Z
X-MICROSOFT-CDO-ALLDAYEVENT:FALSE
SUMMARY:Delta Discovery Cruise
DESCRIPTION:These 90-minute excursions into the wild and scenic Mobile-Tensaw Delta--known as the "American Amazon\,"--introduce visitors and residents alike to a truly astounding natural habitat. Cruises depart from the Bartram Landing at the AWF Delta and Bay Conservation Center at Five Rivers.
X-ALT-DESC;FMTTYPE=text/html:These 90-minute excursions into the wild and scenic Mobile-Tensaw Delta--known as the &quot\;American Amazon\,&quot\;--introduce visitors and residents alike to a truly astounding natural habitat. Cruises depart from the Bartram Landing at the AWF Delta and Bay Conservation Center at Five Rivers.
LOCATION:Departs from the AWF Delta and Bay Conservation Center at Five Rivers.
UID:e.1304.40512
SEQUENCE:3
DTSTAMP:20260424T110126Z
URL:http://business.eschamber.org/events/details/delta-discovery-cruise-06-13-2026-40512
END:VEVENT

END:VCALENDAR
