BEGIN:VCALENDAR
VERSION:2.0
PRODID:-//ChamberMaster//Event Calendar 2.0//EN
METHOD:PUBLISH
X-PUBLISHED-TTL:P3D
REFRESH-INTERVAL:P3D
CALSCALE:GREGORIAN
BEGIN:VEVENT
DTSTART:20241109T010000Z
DTEND:20241109T060000Z
X-MICROSOFT-CDO-ALLDAYEVENT:FALSE
SUMMARY:Delta Drifters @ Whiskey Bay
DESCRIPTION:Trent Brownlee and Kolby Spicer LIVE at Whiskey Bay Bar & Grill on Friday Nightshow starts at 7pm!
X-ALT-DESC;FMTTYPE=text/html:Trent Brownlee and Kolby Spicer LIVE at Whiskey Bay Bar &amp\; Grill on Friday Nightshow starts at 7pm!
LOCATION:Whiskey Bay Bar & Grill 28975 US HWY 98
UID:e.1304.35838
SEQUENCE:3
DTSTAMP:20260425T152755Z
URL:http://business.eschamber.org/events/details/delta-drifters-whiskey-bay-11-08-2024-35838
END:VEVENT

END:VCALENDAR
