BEGIN:VCALENDAR
VERSION:2.0
PRODID:-//ChamberMaster//Event Calendar 2.0//EN
METHOD:PUBLISH
X-PUBLISHED-TTL:P3D
REFRESH-INTERVAL:P3D
CALSCALE:GREGORIAN
BEGIN:VEVENT
DTSTART:20241102T000000Z
DTEND:20241102T050000Z
X-MICROSOFT-CDO-ALLDAYEVENT:FALSE
SUMMARY:Delta Drifters @ Whiskey Bay
DESCRIPTION:Trent Brownlee and Kolby Spicer LIVE at Whiskey Bay Bar & Grill on Friday Night (11/1) show starts at 7pm!
X-ALT-DESC;FMTTYPE=text/html:Trent Brownlee and Kolby Spicer LIVE at Whiskey Bay Bar &amp\; Grill on Friday Night (11/1) show starts at 7pm!
LOCATION:Whiskey Bay Bar & Grill 28975 US HWY 98
UID:e.1304.35837
SEQUENCE:3
DTSTAMP:20260425T152655Z
URL:http://business.eschamber.org/events/details/delta-drifters-whiskey-bay-35837
END:VEVENT

END:VCALENDAR
