BEGIN:VCALENDAR
VERSION:2.0
PRODID:-//ChamberMaster//Event Calendar 2.0//EN
METHOD:PUBLISH
X-PUBLISHED-TTL:P3D
REFRESH-INTERVAL:P3D
CALSCALE:GREGORIAN
BEGIN:VEVENT
DTSTART:20240427T140000Z
DTEND:20240427T200000Z
X-MICROSOFT-CDO-ALLDAYEVENT:FALSE
SUMMARY:Delta Woods & Waters Expo
DESCRIPTION:Join us for the 14th Annual Delta Woods & Waters Expo on Saturday\, April 27 from 9 AM - 3 PM at the 5 Rivers Delta Resource Center located on The Causeway.\n\nFREE ADMISSION!\n\nThe City of Spanish Fort\, AL is excited to welcome over\n\n40 presenters\, interactive activities\, food trucks and live demonstrations to the 5 Rivers Delta Resource Center.\n\n$11 Boat Tours can be booked online: www.deltawoodsandwatersexpo.com\n\nDelta Woods & Waters Expo celebrates the amazing natural resources right here in our "backyard" and educates today's youth on the value of the environment and wonders of the beautiful Mobile-Tensaw Delta.\n\nLearn More at www.deltawoodsandwatersexpo.com.
X-ALT-DESC;FMTTYPE=text/html:<div class="xdj266r x11i5rnm xat24cr x1mh8g0r x1vvkbs" style="margin: 0px\; overflow-wrap: break-word\; font-family: system-ui\, -apple-system\, &quot\;system-ui&quot\;\, &quot\;.SFNSText-Regular&quot\;\, sans-serif\; color: rgb(5\, 5\, 5)\; font-size: 15px\;">Join us for the 14th Annual Delta Woods &amp\; Waters Expo on Saturday\, April 27 from 9 AM - 3 PM at the 5 Rivers Delta Resource Center located on The Causeway.</div>\n\n<div class="x11i5rnm xat24cr x1mh8g0r x1vvkbs xtlvy1s" style="margin: 0.5em 0px 0px\; overflow-wrap: break-word\; font-family: system-ui\, -apple-system\, &quot\;system-ui&quot\;\, &quot\;.SFNSText-Regular&quot\;\, sans-serif\; color: rgb(5\, 5\, 5)\; font-size: 15px\;">FREE ADMISSION!</div>\n\n<div class="x11i5rnm xat24cr x1mh8g0r x1vvkbs xtlvy1s" style="margin: 0.5em 0px 0px\; overflow-wrap: break-word\; font-family: system-ui\, -apple-system\, &quot\;system-ui&quot\;\, &quot\;.SFNSText-Regular&quot\;\, sans-serif\; color: rgb(5\, 5\, 5)\; font-size: 15px\;">The City of Spanish Fort\, AL is excited to welcome over<br />\n40 presenters\, interactive activities\, food trucks and live demonstrations to the 5 Rivers Delta Resource Center.</div>\n\n<div class="x11i5rnm xat24cr x1mh8g0r x1vvkbs xtlvy1s" style="margin: 0.5em 0px 0px\; overflow-wrap: break-word\; font-family: system-ui\, -apple-system\, &quot\;system-ui&quot\;\, &quot\;.SFNSText-Regular&quot\;\, sans-serif\; color: rgb(5\, 5\, 5)\; font-size: 15px\;">$11 Boat Tours can be booked online:&nbsp\;<a class="x1i10hfl xjbqb8w x1ejq31n xd10rxx x1sy0etr x17r0tee x972fbf xcfux6l x1qhh985 xm0m39n x9f619 x1ypdohk xt0psk2 xe8uvvx xdj266r x11i5rnm xat24cr x1mh8g0r xexx8yu x4uap5 x18d9i69 xkhd6sd x16tdsg8 x1hl2dhg xggy1nq x1a2a7pz xt0b8zv x1fey0fg" href="http://www.deltawoodsandwatersexpo.com/?fbclid=IwAR3fl_bQGpIEHC13XtREEEhxVVYLcH0xEevbrCUfp2ds9f-M8N_NKkpVxqA" rel="nofollow noreferrer" role="link" style="color: var(--blue-link)\; cursor: pointer\; outline: none\; list-style: none\; margin: 0px\; text-align: inherit\; border-style: none\; padding: 0px\; border-width: 0px\; box-sizing: border-box\; background-color: transparent\; display: inline\; -webkit-tap-highlight-color: transparent\; touch-action: manipulation\; font-family: inherit\;" tabindex="0" target="_blank">www.deltawoodsandwatersexpo.com</a></div>\n\n<div class="x11i5rnm xat24cr x1mh8g0r x1vvkbs xtlvy1s" style="margin: 0.5em 0px 0px\; overflow-wrap: break-word\; font-family: system-ui\, -apple-system\, &quot\;system-ui&quot\;\, &quot\;.SFNSText-Regular&quot\;\, sans-serif\; color: rgb(5\, 5\, 5)\; font-size: 15px\;">Delta Woods &amp\; Waters Expo celebrates the amazing natural resources right here in our &ldquo\;backyard&rdquo\; and educates today&rsquo\;s youth on the value of the environment and wonders of the beautiful Mobile-Tensaw Delta.</div>\n\n<div class="x11i5rnm xat24cr x1mh8g0r x1vvkbs xtlvy1s" style="margin: 0.5em 0px 0px\; overflow-wrap: break-word\; font-family: system-ui\, -apple-system\, &quot\;system-ui&quot\;\, &quot\;.SFNSText-Regular&quot\;\, sans-serif\; color: rgb(5\, 5\, 5)\; font-size: 15px\;">Learn More at&nbsp\;<a class="x1i10hfl xjbqb8w x1ejq31n xd10rxx x1sy0etr x17r0tee x972fbf xcfux6l x1qhh985 xm0m39n x9f619 x1ypdohk xt0psk2 xe8uvvx xdj266r x11i5rnm xat24cr x1mh8g0r xexx8yu x4uap5 x18d9i69 xkhd6sd x16tdsg8 x1hl2dhg xggy1nq x1a2a7pz xt0b8zv x1fey0fg" href="http://www.deltawoodsandwatersexpo.com/?fbclid=IwAR3R28J_jRRyTIgqJ9VVbzub6HK6iTjIosDkeRkkBFCaIFc5GAKljTRhwyg" rel="nofollow noreferrer" role="link" style="color: var(--blue-link)\; cursor: pointer\; text-decoration-line: none\; outline: none\; list-style: none\; margin: 0px\; text-align: inherit\; border-style: none\; padding: 0px\; border-width: 0px\; box-sizing: border-box\; background-color: transparent\; display: inline\; -webkit-tap-highlight-color: transparent\; touch-action: manipulation\; font-family: inherit\;" tabindex="0" target="_blank">www.deltawoodsandwatersexpo.com.</a></div>\n
LOCATION:5 Rivers Delta Resource Center 30945 Five Rivers Boulevard\, Spanish Fort\, AL 36527
UID:e.1304.30058
SEQUENCE:3
DTSTAMP:20260424T023110Z
URL:http://business.eschamber.org/events/details/delta-woods-waters-expo-30058
END:VEVENT

END:VCALENDAR
