BEGIN:VCALENDAR
VERSION:2.0
PRODID:-//ChamberMaster//Event Calendar 2.0//EN
METHOD:PUBLISH
X-PUBLISHED-TTL:P3D
REFRESH-INTERVAL:P3D
CALSCALE:GREGORIAN
BEGIN:VEVENT
DTSTART:20260115T173000Z
DTEND:20260115T183000Z
X-MICROSOFT-CDO-ALLDAYEVENT:FALSE
SUMMARY:Dementia Support Group
DESCRIPTION:Join our community on the Third Thursday of the month for an opportunity to connect and learn at our dementia support group. This meeting is perfect for families\, spouses\, or just anyone looking for a little extra support as they care for their loved ones. Light bites and refreshments will be provided. While you are here\, be sure to tour our community to see what makes us the best in Senior Living. We look forward to connecting with you!
X-ALT-DESC;FMTTYPE=text/html:Join our community on the Third Thursday of the month for an opportunity to connect and learn at our dementia support group. This meeting is perfect for families\, spouses\, or just anyone looking for a little extra support as they care for their loved ones. Light bites and refreshments will be provided. While you are here\, be sure to tour our community to see what makes us the best in Senior Living. We look forward to connecting with you!
LOCATION:Brennity @ Daphne 27440 County Rd. 13\, Daphne\, AL 36526
UID:e.1304.39807
SEQUENCE:3
DTSTAMP:20260422T134850Z
URL:http://business.eschamber.org/events/details/dementia-support-group-01-15-2026-39807
END:VEVENT

END:VCALENDAR
