BEGIN:VCALENDAR
VERSION:2.0
PRODID:-//ChamberMaster//Event Calendar 2.0//EN
METHOD:PUBLISH
X-PUBLISHED-TTL:P3D
REFRESH-INTERVAL:P3D
CALSCALE:GREGORIAN
BEGIN:VEVENT
DTSTART:20241026T150000Z
DTEND:20241026T190000Z
X-MICROSOFT-CDO-ALLDAYEVENT:FALSE
SUMMARY:Downtown Fairhope Merchants Trick or Treat
DESCRIPTION:Children of all ages wear your costumes and stop by the Welcome Center for Pictures.  Participating stores will have orange pumpkin in their window to give out candy.
X-ALT-DESC;FMTTYPE=text/html:Children of all ages wear your costumes and stop by the Welcome Center for Pictures.&nbsp\; Participating stores will have orange pumpkin in their window to give out candy.
LOCATION:Downtown Fairhope\, AL
UID:e.1304.35673
SEQUENCE:3
DTSTAMP:20260425T164913Z
URL:http://business.eschamber.org/events/details/downtown-fairhope-merchants-trick-or-treat-35673
END:VEVENT

END:VCALENDAR
