BEGIN:VCALENDAR
VERSION:2.0
PRODID:-//ChamberMaster//Event Calendar 2.0//EN
METHOD:PUBLISH
X-PUBLISHED-TTL:P3D
REFRESH-INTERVAL:P3D
CALSCALE:GREGORIAN
BEGIN:VEVENT
DTSTART:20240409T140000Z
DTEND:20240409T190000Z
X-MICROSOFT-CDO-ALLDAYEVENT:FALSE
SUMMARY:Eastern Shore 101
DESCRIPTION:Become a local expert at Eastern Shore 101. \n\n\n\nEastern Shore 101 introduces you to the Eastern Shore's fun attractions\, places to eat\, local government\, events & what makes this community so special.\n\n\n\nGuest Speakers present:\n\n	Fairhope\, Daphne\, & Spanish Fort Attractions\n	Local Food Scene\n	Sports Tourism\n	The Arts\n	Eco Tourism\n\nSpeaker Lineup: \n\n\n\nWelcome\n\nCouncilman Carl Gustafson (District 2) City of Spanish Fort\n\nAnge Baggett\, Events and Marketing Director with City of Daphne\n\nPaige Crawford\, Director of Community Affairs\, City of Fairhope\n\n Jamie Rollins\, City of Fairhope\n\nPat Pearce\, Executive Director\, Eastern Shore Art Center\n\nLunch with a Food Tourism presentation from PP Hospitality\n\nSports Tourism with the City of Daphne\n\nEco-Tourism with 5 Rivers Delta Resource Center
X-ALT-DESC;FMTTYPE=text/html:Become a local expert at Eastern Shore 101.&nbsp\;<br />\n<br />\n<span class="OYPEnA text-decoration-none text-strikethrough-none" style="font-weight: 700\;">Eastern Shore 101 introduces you to the Eastern Shore&#39\;s fun attractions\, places to eat\, local government\, events &amp\; what makes this community so special.</span><br />\n<br />\n<span class="OYPEnA text-decoration-none text-strikethrough-none" style="font-weight: 700\;">Guest Speakers present:</span>\n<ul>\n	<li><span class="OYPEnA text-decoration-none text-strikethrough-none" style="font-weight: 700\;">Fairhope\, Daphne\, &amp\; Spanish Fort Attractions</span></li>\n	<li><span class="OYPEnA text-decoration-none text-strikethrough-none" style="font-weight: 700\;">Local Food Scene</span></li>\n	<li><span class="OYPEnA text-decoration-none text-strikethrough-none" style="font-weight: 700\;">Sports Tourism</span></li>\n	<li><span class="OYPEnA text-decoration-none text-strikethrough-none" style="font-weight: 700\;">The Arts</span></li>\n	<li><span class="OYPEnA text-decoration-none text-strikethrough-none" style="font-weight: 700\;">Eco Tourism</span></li>\n</ul>\n<span class="OYPEnA text-decoration-none text-strikethrough-none" style="font-weight: 700\;">Speaker Lineup:&nbsp\;</span><br />\n<br />\n<span style="color: rgb(0\, 0\, 0)\; font-family: Times\; font-size: medium\;">Welcome</span><br />\n<span style="color: rgb(0\, 0\, 0)\; font-family: Times\; font-size: medium\;">Councilman Carl Gustafson (District 2) City of Spanish Fort</span><br />\n<span style="color: rgb(0\, 0\, 0)\; font-family: Times\; font-size: medium\;">Ange Baggett\, Events and Marketing Director with City of Daphne</span><br />\n<span style="color: rgb(0\, 0\, 0)\; font-family: Times\; font-size: medium\;">Paige Crawford\, Director of Community Affairs\, City of Fairhope</span><br />\n<span style="color: rgb(0\, 0\, 0)\; font-family: Times\; font-size: medium\;">&nbsp\;Jamie Rollins\, City of Fairhope</span><br />\n<span style="color: rgb(0\, 0\, 0)\; font-family: Times\; font-size: medium\;">Pat Pearce\, Executive Director\, Eastern Shore Art Center</span><br />\n<span style="color: rgb(0\, 0\, 0)\; font-family: Times\; font-size: medium\;">Lunch with a Food Tourism presentation from PP Hospitality</span><br />\n<span style="color: rgb(0\, 0\, 0)\; font-family: Times\; font-size: medium\;">Sports Tourism with the City of Daphne</span><br />\n<span style="color: rgb(0\, 0\, 0)\; font-family: Times\; font-size: medium\;">Eco-Tourism with 5 Rivers Delta Resource Center</span><br />\n<br />\n<br />\n<br />\n&nbsp\;
LOCATION:The Waterfront 1 Yacht Club Dr\, Daphne\, AL 36526
UID:e.1304.30038
SEQUENCE:3
DTSTAMP:20260426T005227Z
URL:http://business.eschamber.org/events/details/eastern-shore-101-30038
END:VEVENT

END:VCALENDAR
