BEGIN:VCALENDAR
VERSION:2.0
PRODID:-//ChamberMaster//Event Calendar 2.0//EN
METHOD:PUBLISH
X-PUBLISHED-TTL:P3D
REFRESH-INTERVAL:P3D
CALSCALE:GREGORIAN
BEGIN:VEVENT
DTSTART:20240427T133000Z
DTEND:20240427T170000Z
X-MICROSOFT-CDO-ALLDAYEVENT:FALSE
SUMMARY:Eastern Shore Classic Rotary Pickleball Tournament-2024
DESCRIPTION:Welcome to the 5th Annual Eastern Shore Classic!  This is a charitable event and proceeds will benefit both the Ruff Wilson Youth Organization and KIDZ EATS.  This event is brought to you by the Daphne Spanish Fort Rotary Club in conjunction with the Jubilee Pickleball Club.
X-ALT-DESC;FMTTYPE=text/html:Welcome to the 5th Annual Eastern Shore Classic!&nbsp\; This is a charitable event and proceeds will benefit both the Ruff Wilson Youth Organization and KIDZ EATS.&nbsp\; This event is brought to you by the Daphne Spanish Fort Rotary Club in conjunction with the Jubilee Pickleball Club.
LOCATION:W.O. Lott Park\, 2000 Main Street\, Daphne\, Alabama 36526
UID:e.1304.30077
SEQUENCE:3
DTSTAMP:20260426T005524Z
URL:http://business.eschamber.org/events/details/eastern-shore-classic-rotary-pickleball-tournament-2024-30077
END:VEVENT

END:VCALENDAR
