BEGIN:VCALENDAR
VERSION:2.0
PRODID:-//ChamberMaster//Event Calendar 2.0//EN
METHOD:PUBLISH
X-PUBLISHED-TTL:P3D
REFRESH-INTERVAL:P3D
CALSCALE:GREGORIAN
BEGIN:VEVENT
DTSTART:20240419T233000Z
DTEND:20240420T013000Z
X-MICROSOFT-CDO-ALLDAYEVENT:FALSE
SUMMARY:Eastern Shore Sacred Harp
DESCRIPTION:Come join us for a monthly singing.
X-ALT-DESC;FMTTYPE=text/html:Come join us for a monthly singing.
LOCATION:Homestead Village Ballroom\, 924 Plantation Blvd.\, Fairhope\, AL
UID:e.1304.27269
SEQUENCE:3
DTSTAMP:20260426T005357Z
URL:http://business.eschamber.org/events/details/eastern-shore-sacred-harp-04-19-2024-27269
END:VEVENT

END:VCALENDAR
