BEGIN:VCALENDAR
VERSION:2.0
PRODID:-//ChamberMaster//Event Calendar 2.0//EN
METHOD:PUBLISH
X-PUBLISHED-TTL:P3D
REFRESH-INTERVAL:P3D
CALSCALE:GREGORIAN
BEGIN:VEVENT
DTSTART:20241123T000000Z
DTEND:20241123T030000Z
X-MICROSOFT-CDO-ALLDAYEVENT:FALSE
SUMMARY:Edmunds Oast Beer Dinner
DESCRIPTION:Join our Wine Director\, Will Jones\, as we welcome Scott Shor\, one of the owners of Edmunds Oast Brewery located in Charleston\, South Carolina. This evening will offer an insight into the brewery operations at this amazing brewery\, five different beers produced here\, as well as a four-course dinner with their beers. This is an event for all beer lovers and anyone excited to learn more about one of Charleston's most iconic breweries! Event Menu: Introductory Beer Something Cold Blonde/Golden Ale Course 1: Cereal for Dinner Blonde/Golden Ale Pairing: Gulf Fish and Shrimp Ceviche chili wontons Course 2: Bound by Time IPA Pairing: Smoked Pork Belly whipped celery root | spiced greens Course 3: Leather Jacket Porter Pairing: Beef Short Rib Pot Pie caramelized onion | root vegetables | puff pastry Course 4: Sour Coconut Lime American Fruit Sour Pairing: Key Lime Pie
X-ALT-DESC;FMTTYPE=text/html:Join our Wine Director\, Will Jones\, as we welcome Scott Shor\, one of the owners of Edmunds Oast Brewery located in Charleston\, South Carolina. This evening will offer an insight into the brewery operations at this amazing brewery\, five different beers produced here\, as well as a four-course dinner with their beers. This is an event for all beer lovers and anyone excited to learn more about one of Charleston&rsquo\;s most iconic breweries! Event Menu: Introductory Beer Something Cold Blonde/Golden Ale Course 1: Cereal for Dinner Blonde/Golden Ale Pairing: Gulf Fish and Shrimp Ceviche chili wontons Course 2: Bound by Time IPA Pairing: Smoked Pork Belly whipped celery root | spiced greens Course 3: Leather Jacket Porter Pairing: Beef Short Rib Pot Pie caramelized onion | root vegetables | puff pastry Course 4: Sour Coconut Lime American Fruit Sour Pairing: Key Lime Pie
LOCATION:The Barn at The Hope Farm
UID:e.1304.35853
SEQUENCE:3
DTSTAMP:20260425T152755Z
URL:http://business.eschamber.org/events/details/edmunds-oast-beer-dinner-35853
END:VEVENT

END:VCALENDAR
