BEGIN:VCALENDAR
VERSION:2.0
PRODID:-//ChamberMaster//Event Calendar 2.0//EN
METHOD:PUBLISH
X-PUBLISHED-TTL:P3D
REFRESH-INTERVAL:P3D
CALSCALE:GREGORIAN
BEGIN:VEVENT
DTSTART;VALUE=DATE:20240911
DTEND;VALUE=DATE:20240912
TRANSP:TRANSPARENT
X-MICROSOFT-CDO-ALLDAYEVENT:TRUE
SUMMARY:Eggs N Issues: Wes Allen\, State of Alabama Secretary of State
DESCRIPTION:Join us for Eggs N' Issues with speaker Wes Allen\, State of Alabama Secretary of State\n\n\n\nThank you to our sponsor\, Alabama Port Authority Port of Mobile.
X-ALT-DESC;FMTTYPE=text/html:<span style="box-sizing: border-box\; font-weight: bolder\; outline: 0px\; color: rgb(68\, 68\, 68)\; font-family: arial\; font-size: 16px\;">Join us for Eggs N&#39\; Issues with speaker Wes Allen\, State of Alabama Secretary of State<br />\n<br />\nThank you to our sponsor\, Alabama Port Authority Port of Mobile.</span>
LOCATION:Resurrection Church 2401 Main St\, Daphne\, AL 36526
UID:e.1304.34129
SEQUENCE:3
DTSTAMP:20260425T182319Z
URL:http://business.eschamber.org/events/details/eggs-n-issues-wes-allen-state-of-alabama-secretary-of-state-34129
END:VEVENT

END:VCALENDAR
