BEGIN:VCALENDAR
VERSION:2.0
PRODID:-//ChamberMaster//Event Calendar 2.0//EN
METHOD:PUBLISH
X-PUBLISHED-TTL:P3D
REFRESH-INTERVAL:P3D
CALSCALE:GREGORIAN
BEGIN:VEVENT
DTSTART:20140812T133000Z
DTEND:20140812T133000Z
X-MICROSOFT-CDO-ALLDAYEVENT:FALSE
SUMMARY:Eggs N' Issues - What's Happening in Washington\, with US Congr. Bradley Byrne
DESCRIPTION:
X-ALT-DESC;FMTTYPE=text/html:
LOCATION:
UID:e.1304.906
SEQUENCE:3
DTSTAMP:20260423T090911Z
URL:http://business.eschamber.org/events/details/eggs-n-issues-what-s-happening-in-washington-with-us-congr-bradley-byrne-08-12-2014-906
END:VEVENT

END:VCALENDAR
