BEGIN:VCALENDAR
VERSION:2.0
PRODID:-//ChamberMaster//Event Calendar 2.0//EN
METHOD:PUBLISH
X-PUBLISHED-TTL:P3D
REFRESH-INTERVAL:P3D
CALSCALE:GREGORIAN
BEGIN:VEVENT
DTSTART:20241102T210000Z
DTEND:20241103T000000Z
X-MICROSOFT-CDO-ALLDAYEVENT:FALSE
SUMMARY:Enchanted Festival in the Forest
DESCRIPTION:We're thrilled to announce our magical event on November 2nd\, from 4:00 PM to 7:00 PM! Mark your calendars and wear your favorite costume one last time! Enjoy a day filled with: ? Vendor Market ?? Delicious Food Trucks ?? Live Music ?? Campfire Stories ?? Face Painting ?? Forest Trunk-or-Treat Stations It's going to be a blast for all ages!
X-ALT-DESC;FMTTYPE=text/html:We&rsquo\;re thrilled to announce our magical event on November 2nd\, from 4:00 PM to 7:00 PM! Mark your calendars and wear your favorite costume one last time! Enjoy a day filled with: ? Vendor Market ?? Delicious Food Trucks ?? Live Music ?? Campfire Stories ?? Face Painting ?? Forest Trunk-or-Treat Stations It&#39\;s going to be a blast for all ages!
LOCATION:Nature Connect 7159 McIntyre St\, Fairhope\, AL 36532
UID:e.1304.35649
SEQUENCE:3
DTSTAMP:20260425T152935Z
URL:http://business.eschamber.org/events/details/enchanted-festival-in-the-forest-35649
END:VEVENT

END:VCALENDAR
