BEGIN:VCALENDAR
VERSION:2.0
PRODID:-//ChamberMaster//Event Calendar 2.0//EN
METHOD:PUBLISH
X-PUBLISHED-TTL:P3D
REFRESH-INTERVAL:P3D
CALSCALE:GREGORIAN
BEGIN:VEVENT
DTSTART:20240912T160000Z
DTEND:20240912T180000Z
X-MICROSOFT-CDO-ALLDAYEVENT:FALSE
SUMMARY:ESRW Lunch Meeting
DESCRIPTION:Heather Moore is the wife of US Representative Barry Moore. They have been married 31 years and share 4 children and 2 grandchildren. She is a 1995 graduate of Auburn University with a bachelor's degree in Communication\, Magna Cum Laude.\n\n \n\nHeather is the President of Hopper-Moore Inc. a waste hauling\, site work and demolition company that she and Barry built together. She also served as campaign manager for Barry's last 3 campaigns and currently manages his campaign staff.
X-ALT-DESC;FMTTYPE=text/html:<p>Heather Moore is the wife of US Representative Barry Moore. They have been married 31 years and share 4 children and 2 grandchildren. She is a 1995 graduate of Auburn University with a bachelor&rsquo\;s degree in Communication\, Magna Cum Laude.</p>\n\n<p>&nbsp\;</p>\n\n<p>Heather is the President of Hopper-Moore Inc. a waste hauling\, site work and demolition company that she and Barry built together. She also served as campaign manager for Barry&rsquo\;s last 3 campaigns and currently manages his campaign staff.</p>\n
LOCATION:Fairhope Yacht Club\, 101 Volanta Ave.\, Fairhope\, AL 36532\, USA
UID:e.1304.29767
SEQUENCE:3
DTSTAMP:20260425T182201Z
URL:http://business.eschamber.org/events/details/esrw-lunch-meeting-09-12-2024-29767
END:VEVENT

END:VCALENDAR
