BEGIN:VCALENDAR
VERSION:2.0
PRODID:-//ChamberMaster//Event Calendar 2.0//EN
METHOD:PUBLISH
X-PUBLISHED-TTL:P3D
REFRESH-INTERVAL:P3D
CALSCALE:GREGORIAN
BEGIN:VEVENT
DTSTART:20241114T173000Z
DTEND:20241114T190000Z
X-MICROSOFT-CDO-ALLDAYEVENT:FALSE
SUMMARY:ESRW Lunch Meeting
DESCRIPTION:TBD
X-ALT-DESC;FMTTYPE=text/html:<p><strong>TBD</strong></p>\n
LOCATION:Fairhope Yacht Club\, 101 Volanta Ave\, Fairhope\, AL 36532\, USA
UID:e.1304.29769
SEQUENCE:3
DTSTAMP:20260425T152945Z
URL:http://business.eschamber.org/events/details/esrw-lunch-meeting-11-14-2024-29769
END:VEVENT

END:VCALENDAR
