BEGIN:VCALENDAR
VERSION:2.0
PRODID:-//ChamberMaster//Event Calendar 2.0//EN
METHOD:PUBLISH
X-PUBLISHED-TTL:P3D
REFRESH-INTERVAL:P3D
CALSCALE:GREGORIAN
BEGIN:VEVENT
DTSTART:20240926T220000Z
DTEND:20240926T230000Z
X-MICROSOFT-CDO-ALLDAYEVENT:FALSE
SUMMARY:Fairhope Homecoming Parade
DESCRIPTION:Come watch the Fairhope Pirates' Homecoming Parade!
X-ALT-DESC;FMTTYPE=text/html:Come watch the Fairhope Pirates&#39\; Homecoming Parade!
LOCATION:Streets wil be closed along Section Street from Oak Avenue to Fairhope Avenue\, and Fairhope Avenue from Section Street to the Fairhope Pier.
UID:e.1304.35674
SEQUENCE:3
DTSTAMP:20260425T181942Z
URL:http://business.eschamber.org/events/details/fairhope-homecoming-parade-35674
END:VEVENT

END:VCALENDAR
