BEGIN:VCALENDAR
VERSION:2.0
PRODID:-//ChamberMaster//Event Calendar 2.0//EN
METHOD:PUBLISH
X-PUBLISHED-TTL:P3D
REFRESH-INTERVAL:P3D
CALSCALE:GREGORIAN
BEGIN:VEVENT
DTSTART:20240527T220000Z
DTEND:20240527T233000Z
X-MICROSOFT-CDO-ALLDAYEVENT:FALSE
SUMMARY:Fairhope Memorial Day Concert
DESCRIPTION:The Baldwin Pops concert will be a Memorial Day tribute with patriotic tunes and pieces that honor those that have made the ultimate sacrifice for their country. If you have served \, are active duty\, or are a family member \, please indicate your branch of service by wearing a hat or service pin to the park concert.
X-ALT-DESC;FMTTYPE=text/html:The Baldwin Pops concert will be a Memorial Day tribute with patriotic tunes and pieces that honor those that have made the ultimate sacrifice for their country. If you have served \, are active duty\, or are a family member \, please indicate your branch of service by wearing a hat or service pin to the park concert.
LOCATION:Henry George Park Fairhope\, AL
UID:e.1304.31370
SEQUENCE:3
DTSTAMP:20260425T233612Z
URL:http://business.eschamber.org/events/details/fairhope-memorial-day-concert-31370
END:VEVENT

END:VCALENDAR
