BEGIN:VCALENDAR
VERSION:2.0
PRODID:-//ChamberMaster//Event Calendar 2.0//EN
METHOD:PUBLISH
X-PUBLISHED-TTL:P3D
REFRESH-INTERVAL:P3D
CALSCALE:GREGORIAN
BEGIN:VEVENT
DTSTART:20240911T140000Z
DTEND:20240911T150000Z
X-MICROSOFT-CDO-ALLDAYEVENT:FALSE
SUMMARY:Fairhope's 9/11 Ceremony
DESCRIPTION:The community is invited as we remember those who served and those who were lost 23 years ago on September 11.  The Fairhope Police Department will be hosting its Annual 9/11 ceremony outside the Police Department.
X-ALT-DESC;FMTTYPE=text/html:The community is invited as we remember those who served and those who were lost 23 years ago on September 11.&nbsp\; The Fairhope Police Department will be hosting its Annual 9/11 ceremony outside the Police Department.
LOCATION:Outside Fairhope Police Department\, 107 N. Section Street\, Fairhope\, AL
UID:e.1304.35675
SEQUENCE:3
DTSTAMP:20260425T181333Z
URL:http://business.eschamber.org/events/details/fairhope-s-9-11-ceremony-35675
END:VEVENT

END:VCALENDAR
