BEGIN:VCALENDAR
VERSION:2.0
PRODID:-//ChamberMaster//Event Calendar 2.0//EN
METHOD:PUBLISH
X-PUBLISHED-TTL:P3D
REFRESH-INTERVAL:P3D
CALSCALE:GREGORIAN
BEGIN:VEVENT
DTSTART:20241109T160000Z
DTEND:20241109T170000Z
X-MICROSOFT-CDO-ALLDAYEVENT:FALSE
SUMMARY:Fairhope's Annual Veterans Day Parade - 2024
DESCRIPTION:Come join us for the Veterans' Day parade!  Streets close at 8AM.  Parade starts at 10AM.
X-ALT-DESC;FMTTYPE=text/html:Come join us for the Veterans&#39\; Day parade!&nbsp\; Streets close at 8AM.&nbsp\; Parade starts at 10AM.
LOCATION:Downtown Fairhope
UID:e.1304.35826
SEQUENCE:3
DTSTAMP:20260425T152812Z
URL:http://business.eschamber.org/events/details/fairhope-s-annual-veterans-day-parade-2024-35826
END:VEVENT

END:VCALENDAR
