BEGIN:VCALENDAR
VERSION:2.0
PRODID:-//ChamberMaster//Event Calendar 2.0//EN
METHOD:PUBLISH
X-PUBLISHED-TTL:P3D
REFRESH-INTERVAL:P3D
CALSCALE:GREGORIAN
BEGIN:VEVENT
DTSTART:20240509T210000Z
DTEND:20240510T010000Z
X-MICROSOFT-CDO-ALLDAYEVENT:FALSE
SUMMARY:Fairhope's Girls Night Out -2024
DESCRIPTION:Fairhope & Co. presents Girls Night Out.  Join us as we celebrate our Diamond Anniversary!  After all\, Fairhope is a girl's best friend!
X-ALT-DESC;FMTTYPE=text/html:Fairhope &amp\; Co. presents Girls Night Out.&nbsp\; Join us as we celebrate our Diamond Anniversary!&nbsp\; After all\, Fairhope is a girl&#39\;s best friend!
LOCATION:Check in at Fairhope Welcome Center\, 20 N. Section Street\, Fairhope\, AL
UID:e.1304.30096
SEQUENCE:3
DTSTAMP:20260425T233645Z
URL:http://business.eschamber.org/events/details/fairhope-s-girls-night-out-2024-30096
END:VEVENT

END:VCALENDAR
