BEGIN:VCALENDAR
VERSION:2.0
PRODID:-//ChamberMaster//Event Calendar 2.0//EN
METHOD:PUBLISH
X-PUBLISHED-TTL:P3D
REFRESH-INTERVAL:P3D
CALSCALE:GREGORIAN
BEGIN:VEVENT
DTSTART:20240924T163000Z
DTEND:20240924T173000Z
X-MICROSOFT-CDO-ALLDAYEVENT:FALSE
SUMMARY:Fall Fashion Show
DESCRIPTION:
X-ALT-DESC;FMTTYPE=text/html:
LOCATION:James P. Nix Center\, 1 Bayou Drive\, Fairhope\, AL
UID:e.1304.35662
SEQUENCE:3
DTSTAMP:20260425T182034Z
URL:http://business.eschamber.org/events/details/fall-fashion-show-35662
END:VEVENT

END:VCALENDAR
