BEGIN:VCALENDAR
VERSION:2.0
PRODID:-//ChamberMaster//Event Calendar 2.0//EN
METHOD:PUBLISH
X-PUBLISHED-TTL:P3D
REFRESH-INTERVAL:P3D
CALSCALE:GREGORIAN
BEGIN:VEVENT
DTSTART:20241115T220000Z
DTEND:20241116T000000Z
X-MICROSOFT-CDO-ALLDAYEVENT:FALSE
SUMMARY:Fall Festival
DESCRIPTION:Live Music\, Food Trucks\, Game Truck\, Snow cones\, firetruck\, live animals\, games\, pumpkin painting\, bouncy house\, hayride\, photos & more!
X-ALT-DESC;FMTTYPE=text/html:Live Music\, Food Trucks\, Game Truck\, Snow cones\, firetruck\, live animals\, games\, pumpkin painting\, bouncy house\, hayride\, photos &amp\; more!
LOCATION:American Autism & Rehabiliation Center 8909 Rand Avenue Daphne\, AL
UID:e.1304.35897
SEQUENCE:3
DTSTAMP:20260425T152655Z
URL:http://business.eschamber.org/events/details/fall-festival-35897
END:VEVENT

END:VCALENDAR
