BEGIN:VCALENDAR
VERSION:2.0
PRODID:-//ChamberMaster//Event Calendar 2.0//EN
METHOD:PUBLISH
X-PUBLISHED-TTL:P3D
REFRESH-INTERVAL:P3D
CALSCALE:GREGORIAN
BEGIN:VEVENT
DTSTART:20240610T230000Z
DTEND:20240611T000000Z
X-MICROSOFT-CDO-ALLDAYEVENT:FALSE
SUMMARY:Financial Education Class – Financial Foundations
DESCRIPTION:Habitat Baldwin currently offers various financial education curriculums. All classes and coaching are currently offered free of charge\, and all courses are open to the public\, but registration is required.\n\n \n\nThis financial education class is called "Financial Foundations." Designed as an interactive course that addresses attendee's emotional relationship with money and calls them to take immediate action to improve their financial futures. The course will highlight the importance of building savings\, developing a spending plan\, and reducing debt. Attendees will have access to free one on one coaching for encouragement and support in applying each of the foundations.\n\n \n\nThe course is offered free of charge\; however\, you must register at least 24 hours before the class at the link below.\n\nQuestions? Call (251) 943-7268 or email sstephens@habitatbaldwin.org. Please register here.
X-ALT-DESC;FMTTYPE=text/html:<p style="margin-left:0px\; margin-right:0px">&nbsp\;<span style="font-size:14px">Habitat Baldwin currently offers various financial education curriculums. All classes and coaching are currently offered free of charge\, and all courses are open to the public\, but&nbsp\;<strong>registration</strong>&nbsp\;is required.</span><br />\n&nbsp\;</p>\n\n<p style="margin-left:0px\; margin-right:0px"><span style="font-size:14px"><span style="color:rgb(20\, 24\, 39)\; font-family:helvetica neue\,helvetica\,-apple-system\,blinkmacsystemfont\,roboto\,arial\,sans-serif">This financial education class is called &ldquo\;Financial Foundations.&rdquo\; Designed as an interactive course that addresses attendee&rsquo\;s emotional relationship with money and calls them to take immediate action to improve their financial futures. The course will highlight the importance of building savings\, developing a spending plan\, and reducing debt. Attendees will have access to free one on one coaching for encouragement and support in applying each of the foundations.</span></span><br />\n&nbsp\;</p>\n\n<p style="margin-left:0px\; margin-right:0px"><span style="font-size:14px">The course is offered free of charge\;&nbsp\;<strong><em>however\, you must register at least 24 hours before the class at the link below.</em></strong></span></p>\n\n<p style="margin-left:0px\; margin-right:0px"><span style="font-size:14px">Questions? Call (251) 943-7268 or email&nbsp\;<a href="mailto:sstephens@habitatbaldwin.org?subject=Financial%20Education%20Class">sstephens@habitatbaldwin.org</a>. Please register&nbsp\;<a href="https://forms.office.com/pages/responsepage.aspx?id=d6lYsf0E30SKsc-FEALtMDJ2F7IDe8ZEhFn9b20nKOhUN04zRldFWTlCREdLWThYWTZFMTJTUkg1SS4u"><strong>here</strong></a>.</span>&nbsp\;</p>\n
LOCATION:Habitat for Humanity Baldwin County 106 E Orange Avenue Foley\, AL
UID:e.1304.29926
SEQUENCE:3
DTSTAMP:20260425T221016Z
URL:http://business.eschamber.org/events/details/financial-education-class-financial-foundations-06-10-2024-29926
END:VEVENT

END:VCALENDAR
