BEGIN:VCALENDAR
VERSION:2.0
PRODID:-//ChamberMaster//Event Calendar 2.0//EN
METHOD:PUBLISH
X-PUBLISHED-TTL:P3D
REFRESH-INTERVAL:P3D
CALSCALE:GREGORIAN
BEGIN:VEVENT
DTSTART:20240425T230000Z
DTEND:20240426T000000Z
X-MICROSOFT-CDO-ALLDAYEVENT:FALSE
SUMMARY:Financial Education Class - Home Maintenance
DESCRIPTION:Habitat Baldwin currently offers various financial education curriculums. All classes and coaching are currently offered free of charge\, and all courses are open to the public\, but registration is required.\n\n\n\nThis financial education class is called "Home Maintenance". Buying a home is typically the largest purchase one makes. Habitat wants to make sure you know how to properly care for that home. A properly cared for home not only gives you and your family a better living experience\, but it also helps to build stability and wealth for generations to come. This class discusses a variety of maintenance tips to help care for your home. \n\n\n\nThe course is offered free of charge\; however\, you must register at least 24 hours before the class at the link below.\n\n\nQuestions? Call (251) 943-7268 or email sstephens@habitatbaldwin.org. Please register here.
X-ALT-DESC;FMTTYPE=text/html:<span style="font-size:12px"><span style="font-family:arial\,helvetica\,sans-serif"><span style="color:#333333">H</span><span style="color:#333333">abitat Baldwin currently offers various financial education curriculums. All classes and coaching are currently offered free of charge\, and all courses are open to the public\, but&nbsp\;<strong>registration</strong>&nbsp\;is required.</span></span></span><br />\n<br />\n<span style="color:#141827">This financial education class is called <span style="font-size:12px"><span style="font-family:arial\,helvetica\,sans-serif">&ldquo\;</span></span></span><span style="font-size:12px"><span style="font-family:arial\,helvetica\,sans-serif"><span style="color:black">Home Maintenance&quot\;. Buying a home is typically the largest purchase one makes. Habitat wants to make sure you know how to properly care for that home. A properly cared for home not only gives you and your family a better living&nbsp\;experience\, but it also helps to build stability and wealth for generations to come. This class discusses a variety of maintenance tips to help care for your home.&nbsp\;</span></span></span><br />\n<br />\n<span style="font-size:12px"><span style="font-family:arial\,helvetica\,sans-serif"><span style="color:#333333">The course is offered free of charge\;&nbsp\;<strong><em>however\, you must register at least 24 hours before the class at the link below.</em></strong></span></span></span>\n<div style="text-align:center">\n<hr /></div>\n<span style="font-size:12px"><span style="font-family:arial\,helvetica\,sans-serif"><span style="color:#333333">Questions? Call (251) 943-7268 or email&nbsp\;<a href="mailto:sstephens@habitatbaldwin.org?subject=Financial%20Education%20Class"><span style="color:#0782C1">sstephens@habitatbaldwin.org</span></a>. Please register&nbsp\;<a href="https://forms.office.com/pages/responsepage.aspx?id=d6lYsf0E30SKsc-FEALtMDJ2F7IDe8ZEhFn9b20nKOhUN04zRldFWTlCREdLWThYWTZFMTJTUkg1SS4u"><strong><span style="color:#0782C1">here</span></strong></a>.</span>&nbsp\;</span></span>
LOCATION:Habitat for Humanity Baldwin County 106 E Orange Avenue Foley\, AL
UID:e.1304.29919
SEQUENCE:3
DTSTAMP:20260426T005352Z
URL:http://business.eschamber.org/events/details/financial-education-class-home-maintenance-29919
END:VEVENT

END:VCALENDAR
