BEGIN:VCALENDAR
VERSION:2.0
PRODID:-//ChamberMaster//Event Calendar 2.0//EN
METHOD:PUBLISH
X-PUBLISHED-TTL:P3D
REFRESH-INTERVAL:P3D
CALSCALE:GREGORIAN
BEGIN:VEVENT
DTSTART:20240427T150000Z
DTEND:20240427T180000Z
X-MICROSOFT-CDO-ALLDAYEVENT:FALSE
SUMMARY:Finding Fairhope Scavenger Hunt
DESCRIPTION:Have some morning fun in Fairhope as you search for clues in and around downtown.  Learn about the history of our town as you and your friends solve the clues that are unique to each location.  Prize for first and second place.\n\nAll clues solved & turned in by 12:30 pm.  Winners declared at 1pm.
X-ALT-DESC;FMTTYPE=text/html:Have some morning fun in Fairhope as you search for clues in and around downtown.&nbsp\; Learn about the history of our town as you and your friends solve the clues that are unique to each location.&nbsp\; Prize for first and second place.<br />\nAll clues solved &amp\; turned in by 12:30 pm.&nbsp\; Winners declared at 1pm.
LOCATION:Start on the Bay Breeze Cafe patio. 212 1/2 Fairhope Avenue\, Fairhope\, AL (Bay Breeze is open for Breakfast beginning at 7:30 am)
UID:e.1304.30091
SEQUENCE:3
DTSTAMP:20260426T005238Z
URL:http://business.eschamber.org/events/details/finding-fairhope-scavenger-hunt-30091
END:VEVENT

END:VCALENDAR
