BEGIN:VCALENDAR
VERSION:2.0
PRODID:-//ChamberMaster//Event Calendar 2.0//EN
METHOD:PUBLISH
X-PUBLISHED-TTL:P3D
REFRESH-INTERVAL:P3D
CALSCALE:GREGORIAN
BEGIN:VEVENT
DTSTART:20241027T143000Z
DTEND:20241027T203000Z
X-MICROSOFT-CDO-ALLDAYEVENT:FALSE
SUMMARY:Five Rivers Outdoor Market Cruises
DESCRIPTION:Join Historic Blakeley State Park and Five Rivers Delta Resource Center for a day of special programming and cruises into the scenic Mobile-Tensaw Delta. There will be an outdoor market\, games\, local vendors\, food trucks\, and other surprises in addition to cruises. Costumes welcomed but not required to receive candy.
X-ALT-DESC;FMTTYPE=text/html:Join Historic Blakeley State Park and Five Rivers Delta Resource Center for a day of special programming and cruises into the scenic Mobile-Tensaw Delta. There will be an outdoor market\, games\, local vendors\, food trucks\, and other surprises in addition to cruises. Costumes welcomed but not required to receive candy.
LOCATION:Bartram Dock at Five Rivers Delta Resource Center
UID:e.1304.35642
SEQUENCE:3
DTSTAMP:20260425T165734Z
URL:http://business.eschamber.org/events/details/five-rivers-outdoor-market-cruises-10-27-2024-35642
END:VEVENT

END:VCALENDAR
