BEGIN:VCALENDAR
VERSION:2.0
PRODID:-//ChamberMaster//Event Calendar 2.0//EN
METHOD:PUBLISH
X-PUBLISHED-TTL:P3D
REFRESH-INTERVAL:P3D
CALSCALE:GREGORIAN
BEGIN:VEVENT
DTSTART:20240923T133000Z
DTEND:20240924T213000Z
X-MICROSOFT-CDO-ALLDAYEVENT:FALSE
SUMMARY:Flawless Delivery Hospitality Certification
DESCRIPTION:This experiential workshop brings hospitality employees together for a two-day training\, including an overnight at a local hotel to be certified in Flawless Delivery . Participants will also enjoy dinner at a local eatery that will include our Four Course Hospitality Training and local speakers from the industry. Participants learn essential communication\, conflict resolution\, empathy\, and interpersonal skills needed to deliver Flawless customer service. This certification provides a standard for 21st century service that supports individual career development as well as the industry's growth as a whole. This certification is practical and implementable. Delivered in a fun and supportive learning environment\, the program includes many tools for increasing resilience and retention in the rapidly growing and changing hospitality industry.
X-ALT-DESC;FMTTYPE=text/html:This experiential workshop brings hospitality employees together for a two-day training\, including an overnight at a local hotel to be certified in Flawless Delivery&copy\;. Participants will also enjoy dinner at a local eatery that will include our Four Course Hospitality Training and local speakers from the industry. Participants learn essential communication\, conflict resolution\, empathy\, and interpersonal skills needed to deliver Flawless customer service. This certification provides a standard for 21st century service that supports individual career development as well as the industry&rsquo\;s growth as a whole. This certification is practical and implementable. Delivered in a fun and supportive learning environment\, the program includes many tools for increasing resilience and retention in the rapidly growing and changing hospitality industry.
LOCATION:Hilton Garden Inn - Mobile/East Bay - Daphne
UID:e.1304.35667
SEQUENCE:3
DTSTAMP:20260425T181932Z
URL:http://business.eschamber.org/events/details/flawless-delivery-hospitality-certification-35667
END:VEVENT

END:VCALENDAR
