BEGIN:VCALENDAR
VERSION:2.0
PRODID:-//ChamberMaster//Event Calendar 2.0//EN
METHOD:PUBLISH
X-PUBLISHED-TTL:P3D
REFRESH-INTERVAL:P3D
CALSCALE:GREGORIAN
BEGIN:VEVENT
DTSTART:20260613T013000Z
DTEND:20260613T023000Z
X-MICROSOFT-CDO-ALLDAYEVENT:FALSE
SUMMARY:Gator Cruise
DESCRIPTION:Join us for an evening adventure into some of the secluded reaches of the lower Delta as we look for alligators and other nocturnal Delta wildlife. Departs from the AWF Delta and Bay Conservation Center at Five Rivers.
X-ALT-DESC;FMTTYPE=text/html:Join us for an evening adventure into some of the secluded reaches of the lower Delta as we look for alligators and other nocturnal Delta wildlife. Departs from the AWF Delta and Bay Conservation Center at Five Rivers.
LOCATION:Departs from the AWF Delta and Bay Conservation Center at Five Rivers.
UID:e.1304.40514
SEQUENCE:3
DTSTAMP:20260424T110126Z
URL:http://business.eschamber.org/events/details/gator-cruise-06-12-2026-40514
END:VEVENT

END:VCALENDAR
