BEGIN:VCALENDAR
VERSION:2.0
PRODID:-//ChamberMaster//Event Calendar 2.0//EN
METHOD:PUBLISH
X-PUBLISHED-TTL:P3D
REFRESH-INTERVAL:P3D
CALSCALE:GREGORIAN
BEGIN:VEVENT
DTSTART:20241012T150000Z
DTEND:20241012T160000Z
X-MICROSOFT-CDO-ALLDAYEVENT:FALSE
SUMMARY:Goat Yoga
DESCRIPTION:Cloud Mountain Coffee will be hosting our first ever goat yoga session on Saturday\, October 12th at 10am! Come and enjoy a morning spent with adorable goats\, great coffee\, and a relaxing yoga session. There is limited space\, so snag your tickets before they are gone. We can't wait to see you!
X-ALT-DESC;FMTTYPE=text/html:Cloud Mountain Coffee will be hosting our first ever goat yoga session on Saturday\, October 12th at 10am! Come and enjoy a morning spent with adorable goats\, great coffee\, and a relaxing yoga session. There is limited space\, so snag your tickets before they are gone. We can&#39\;t wait to see you!
LOCATION:Cloud Mountain Coffee 1305 Main Street Daphne\, AL 36526
UID:e.1304.35734
SEQUENCE:3
DTSTAMP:20260425T164740Z
URL:http://business.eschamber.org/events/details/goat-yoga-35734
END:VEVENT

END:VCALENDAR
