BEGIN:VCALENDAR
VERSION:2.0
PRODID:-//ChamberMaster//Event Calendar 2.0//EN
METHOD:PUBLISH
X-PUBLISHED-TTL:P3D
REFRESH-INTERVAL:P3D
CALSCALE:GREGORIAN
BEGIN:VEVENT
DTSTART:20240529T150000Z
DTEND:20240529T153000Z
X-MICROSOFT-CDO-ALLDAYEVENT:FALSE
SUMMARY:Grand Opening: 7 Brew
DESCRIPTION:Grand Opening: 7 Brew
X-ALT-DESC;FMTTYPE=text/html:Grand Opening: 7 Brew<br />\n
LOCATION:10024 Papa George Street Daphne\, AL 36526
UID:e.1304.31344
SEQUENCE:3
DTSTAMP:20260425T233407Z
URL:http://business.eschamber.org/events/details/grand-opening-7-brew-31344
END:VEVENT

END:VCALENDAR
