BEGIN:VCALENDAR
VERSION:2.0
PRODID:-//ChamberMaster//Event Calendar 2.0//EN
METHOD:PUBLISH
X-PUBLISHED-TTL:P3D
REFRESH-INTERVAL:P3D
CALSCALE:GREGORIAN
BEGIN:VEVENT
DTSTART:20241113T220000Z
DTEND:20241114T000000Z
X-MICROSOFT-CDO-ALLDAYEVENT:FALSE
SUMMARY:Grand Opening: Beyond Chiropractic
DESCRIPTION:Grand Opening: Beyond Chiropractic
X-ALT-DESC;FMTTYPE=text/html:Grand Opening: Beyond Chiropractic<br />\n
LOCATION:809 C Daphne Avenue Suite 102 Daphne\, AL 36526
UID:e.1304.35857
SEQUENCE:3
DTSTAMP:20260425T152656Z
URL:http://business.eschamber.org/events/details/grand-opening-beyond-chiropractic-35857
END:VEVENT

END:VCALENDAR
