BEGIN:VCALENDAR
VERSION:2.0
PRODID:-//ChamberMaster//Event Calendar 2.0//EN
METHOD:PUBLISH
X-PUBLISHED-TTL:P3D
REFRESH-INTERVAL:P3D
CALSCALE:GREGORIAN
BEGIN:VEVENT
DTSTART:20240312T153000Z
DTEND:20240312T203000Z
X-MICROSOFT-CDO-ALLDAYEVENT:FALSE
SUMMARY:Grand Opening: Big Potato Company - Daphne
DESCRIPTION:Grand Opening: Big Potato Company - Daphne
X-ALT-DESC;FMTTYPE=text/html:Grand Opening:&nbsp\;Big Potato Company - Daphne
LOCATION:6882 US Highway 90 Daphne\, AL 36526
UID:e.1304.30022
SEQUENCE:3
DTSTAMP:20260426T022040Z
URL:http://business.eschamber.org/events/details/grand-opening-big-potato-company-daphne-30022
END:VEVENT

END:VCALENDAR
