BEGIN:VCALENDAR
VERSION:2.0
PRODID:-//ChamberMaster//Event Calendar 2.0//EN
METHOD:PUBLISH
X-PUBLISHED-TTL:P3D
REFRESH-INTERVAL:P3D
CALSCALE:GREGORIAN
BEGIN:VEVENT
DTSTART:20241028T150000Z
DTEND:20241028T153000Z
X-MICROSOFT-CDO-ALLDAYEVENT:FALSE
SUMMARY:Grand Opening: Buffalo Wild Wings
DESCRIPTION:Grand Opening: Buffalo Wild Wings
X-ALT-DESC;FMTTYPE=text/html:Grand Opening:&nbsp\;Buffalo Wild Wings
LOCATION:6840 US Highway 90 Daphne\, AL 36526
UID:e.1304.35804
SEQUENCE:3
DTSTAMP:20260425T165505Z
URL:http://business.eschamber.org/events/details/grand-opening-buffalo-wild-wings-35804
END:VEVENT

END:VCALENDAR
