BEGIN:VCALENDAR
VERSION:2.0
PRODID:-//ChamberMaster//Event Calendar 2.0//EN
METHOD:PUBLISH
X-PUBLISHED-TTL:P3D
REFRESH-INTERVAL:P3D
CALSCALE:GREGORIAN
BEGIN:VEVENT
DTSTART:20240410T170000Z
DTEND:20240410T180000Z
X-MICROSOFT-CDO-ALLDAYEVENT:FALSE
SUMMARY:Grand Opening: Christian Brothers Automotive - Daphne
DESCRIPTION:Grand Opening: Christian Brothers Automotive - Daphne
X-ALT-DESC;FMTTYPE=text/html:Grand Opening: Christian Brothers Automotive - Daphne
LOCATION:9597 US 90 Daphne\, AL 36526
UID:e.1304.30098
SEQUENCE:3
DTSTAMP:20260426T005623Z
URL:http://business.eschamber.org/events/details/grand-opening-christian-brothers-automotive-daphne-30098
END:VEVENT

END:VCALENDAR
