BEGIN:VCALENDAR
VERSION:2.0
PRODID:-//ChamberMaster//Event Calendar 2.0//EN
METHOD:PUBLISH
X-PUBLISHED-TTL:P3D
REFRESH-INTERVAL:P3D
CALSCALE:GREGORIAN
BEGIN:VEVENT
DTSTART:20240507T160000Z
DTEND:20240507T170000Z
X-MICROSOFT-CDO-ALLDAYEVENT:FALSE
SUMMARY:Grand Opening: Hive Modern Home
DESCRIPTION:Grand Opening: Hive Modern Home
X-ALT-DESC;FMTTYPE=text/html:Grand Opening: Hive Modern Home
LOCATION:151 Fly Creek Avenue Ste. 432 Fairhope AL 36532 Same shopping center as Publix
UID:e.1304.31299
SEQUENCE:3
DTSTAMP:20260425T233407Z
URL:http://business.eschamber.org/events/details/grand-opening-hive-modern-home-31299
END:VEVENT

END:VCALENDAR
