BEGIN:VCALENDAR
VERSION:2.0
PRODID:-//ChamberMaster//Event Calendar 2.0//EN
METHOD:PUBLISH
X-PUBLISHED-TTL:P3D
REFRESH-INTERVAL:P3D
CALSCALE:GREGORIAN
BEGIN:VEVENT
DTSTART:20241001T160000Z
DTEND:20241001T163000Z
X-MICROSOFT-CDO-ALLDAYEVENT:FALSE
SUMMARY:Grand Opening: Hurley Mental & Behavioral Health
DESCRIPTION:Grand Opening: Hurley Mental & Behavioral Health
X-ALT-DESC;FMTTYPE=text/html:Grand Opening: Hurley Mental &amp\; Behavioral Health<br />\n
LOCATION:101 B Villa Dr. Daphne\, AL 36526
UID:e.1304.35736
SEQUENCE:3
DTSTAMP:20260425T165617Z
URL:http://business.eschamber.org/events/details/grand-opening-hurley-mental-behavioral-health-35736
END:VEVENT

END:VCALENDAR
