BEGIN:VCALENDAR
VERSION:2.0
PRODID:-//ChamberMaster//Event Calendar 2.0//EN
METHOD:PUBLISH
X-PUBLISHED-TTL:P3D
REFRESH-INTERVAL:P3D
CALSCALE:GREGORIAN
BEGIN:VEVENT
DTSTART:20240502T173000Z
DTEND:20240502T184500Z
X-MICROSOFT-CDO-ALLDAYEVENT:FALSE
SUMMARY:Grand Opening/Open House: Ellison Smith Creative
DESCRIPTION:Grand Opening/Open House: Ellison Smith Creative
X-ALT-DESC;FMTTYPE=text/html:Grand Opening/Open House:&nbsp\;Ellison Smith Creative
LOCATION:7124 Stone Dr. Suite A Daphne\, AL 36526
UID:e.1304.31293
SEQUENCE:3
DTSTAMP:20260425T233407Z
URL:http://business.eschamber.org/events/details/grand-opening-open-house-ellison-smith-creative-31293
END:VEVENT

END:VCALENDAR
