BEGIN:VCALENDAR
VERSION:2.0
PRODID:-//ChamberMaster//Event Calendar 2.0//EN
METHOD:PUBLISH
X-PUBLISHED-TTL:P3D
REFRESH-INTERVAL:P3D
CALSCALE:GREGORIAN
BEGIN:VEVENT
DTSTART:20240906T143000Z
DTEND:20240906T150000Z
X-MICROSOFT-CDO-ALLDAYEVENT:FALSE
SUMMARY:Grand Opening/Open House: MilliMedia
DESCRIPTION:Grand Opening/Open House: MilliMedia
X-ALT-DESC;FMTTYPE=text/html:Grand Opening/Open House: MilliMedia&nbsp\;
LOCATION:Eastern Shore Chamber Office 327 Fairhope Ave Fairhope\, AL 36526
UID:e.1304.34175
SEQUENCE:3
DTSTAMP:20260425T182051Z
URL:http://business.eschamber.org/events/details/grand-opening-open-house-millimedia-34175
END:VEVENT

END:VCALENDAR
