BEGIN:VCALENDAR
VERSION:2.0
PRODID:-//ChamberMaster//Event Calendar 2.0//EN
METHOD:PUBLISH
X-PUBLISHED-TTL:P3D
REFRESH-INTERVAL:P3D
CALSCALE:GREGORIAN
BEGIN:VEVENT
DTSTART:20240606T200000Z
DTEND:20240606T220000Z
X-MICROSOFT-CDO-ALLDAYEVENT:FALSE
SUMMARY:Grand Opening: Seagrass Village of Daphne
DESCRIPTION:Grand Opening: Seagrass Village of Daphne
X-ALT-DESC;FMTTYPE=text/html:Grand Opening: Seagrass Village of Daphne<br />\n
LOCATION:426 Seagrass Circle Daphne\, AL 36526
UID:e.1304.31320
SEQUENCE:3
DTSTAMP:20260425T221202Z
URL:http://business.eschamber.org/events/details/grand-opening-seagrass-village-of-daphne-31320
END:VEVENT

END:VCALENDAR
