BEGIN:VCALENDAR
VERSION:2.0
PRODID:-//ChamberMaster//Event Calendar 2.0//EN
METHOD:PUBLISH
X-PUBLISHED-TTL:P3D
REFRESH-INTERVAL:P3D
CALSCALE:GREGORIAN
BEGIN:VEVENT
DTSTART:20260309T170000Z
DTEND:20260309T190000Z
X-MICROSOFT-CDO-ALLDAYEVENT:FALSE
SUMMARY:Grand Opening: Sherwin-Williams Paint Company
DESCRIPTION:Grand Opening: Sherwin-Williams Paint Company
X-ALT-DESC;FMTTYPE=text/html:Grand Opening:&nbsp\;Sherwin-Williams Paint Company
LOCATION:22191 Bushel Rd Fairhope\, AL 36532
UID:e.1304.40180
SEQUENCE:3
DTSTAMP:20260420T064314Z
URL:http://business.eschamber.org/events/details/grand-opening-sherwin-williams-paint-company-40180
END:VEVENT

END:VCALENDAR
